BEGIN:VCALENDAR
VERSION:2.0
PRODID:-//pretix//pretix-PROD_Wien//
BEGIN:VEVENT
UID:pretix-baeder-krapfenwaldlbad-6094@ticket.wien.gv.at
DTSTART;VALUE=DATE:20210807
DTEND;VALUE=DATE:20210808
DESCRIPTION:Tickets: https://ticket.wien.gv.at/baeder/krapfenwaldlbad/6094/
 \nVeranstalter: MA 44 Wiener Bäder
DTSTAMP:20260425T202635Z
SUMMARY:Eintritt Krapfenwaldlbad
END:VEVENT
END:VCALENDAR
