BEGIN:VCALENDAR
VERSION:2.0
PRODID:-//pretix//pretix-PROD_Wien//
BEGIN:VEVENT
UID:pretix-baeder-krapfenwaldlbad-5124@ticket.wien.gv.at
DTSTART;VALUE=DATE:20210624
DTEND;VALUE=DATE:20210625
DESCRIPTION:Tickets: https://ticket.wien.gv.at/baeder/krapfenwaldlbad/5124/
 \nVeranstalter: MA 44 Wiener Bäder
DTSTAMP:20260425T174750Z
SUMMARY:Eintritt Krapfenwaldlbad
END:VEVENT
END:VCALENDAR
