BEGIN:VCALENDAR
VERSION:2.0
PRODID:-//pretix//pretix-PROD_Wien//
BEGIN:VEVENT
UID:pretix-baeder-krapfenwaldlbad-5037@ticket.wien.gv.at
DTSTART;VALUE=DATE:20210620
DTEND;VALUE=DATE:20210621
DESCRIPTION:Tickets: https://ticket.wien.gv.at/baeder/krapfenwaldlbad/5037/
 \nVeranstalter: MA 44 Wiener Bäder
DTSTAMP:20260425T221519Z
SUMMARY:Eintritt Krapfenwaldlbad
END:VEVENT
END:VCALENDAR
