BEGIN:VCALENDAR
VERSION:2.0
PRODID:-//pretix//pretix-PROD_Wien//
BEGIN:VEVENT
UID:pretix-baeder-krapfenwaldlbad-4884@ticket.wien.gv.at
DTSTART;VALUE=DATE:20210613
DTEND;VALUE=DATE:20210614
DESCRIPTION:Tickets: https://ticket.wien.gv.at/baeder/krapfenwaldlbad/4884/
 \nVeranstalter: MA 44 Wiener Bäder
DTSTAMP:20260425T161935Z
SUMMARY:Eintritt Krapfenwaldlbad
END:VEVENT
END:VCALENDAR
