BEGIN:VCALENDAR
VERSION:2.0
PRODID:-//pretix//pretix-PROD_Wien//
BEGIN:VEVENT
UID:pretix-baeder-krapfenwaldlbad-4860@ticket.wien.gv.at
DTSTART;VALUE=DATE:20210612
DTEND;VALUE=DATE:20210613
DESCRIPTION:Tickets: https://ticket.wien.gv.at/baeder/krapfenwaldlbad/4860/
 \nVeranstalter: MA 44 Wiener Bäder
DTSTAMP:20260425T190854Z
SUMMARY:Eintritt Krapfenwaldlbad
END:VEVENT
END:VCALENDAR
