BEGIN:VCALENDAR
VERSION:2.0
PRODID:-//pretix//pretix-PROD_Wien//
BEGIN:VEVENT
UID:pretix-baeder-krapfenwaldlbad-4250@ticket.wien.gv.at
DTSTART;VALUE=DATE:20210516
DTEND;VALUE=DATE:20210517
DESCRIPTION:Tickets: https://ticket.wien.gv.at/baeder/krapfenwaldlbad/4250/
 \nVeranstalter: MA 44 Wiener Bäder
DTSTAMP:20260426T011411Z
SUMMARY:Sunday
END:VEVENT
END:VCALENDAR
