BEGIN:VCALENDAR
VERSION:2.0
PRODID:-//pretix//pretix-PROD_Wien//
BEGIN:VEVENT
UID:pretix-baeder-kongressbad-38673@ticket.wien.gv.at
DTSTART;VALUE=DATE:20230901
DTEND;VALUE=DATE:20230902
DESCRIPTION:Tickets: https://ticket.wien.gv.at/baeder/kongressbad/38673/\nV
 eranstalter: MA 44 Wiener Bäder
DTSTAMP:20260425T185336Z
SUMMARY:Badegäste Freibad Mo-Fr
END:VEVENT
END:VCALENDAR
