BEGIN:VCALENDAR
VERSION:2.0
PRODID:-//pretix//pretix-PROD_Wien//
BEGIN:VEVENT
UID:pretix-baeder-kongressbad-37228@ticket.wien.gv.at
DTSTART;VALUE=DATE:20230806
DTEND;VALUE=DATE:20230807
DESCRIPTION:Tickets: https://ticket.wien.gv.at/baeder/kongressbad/37228/\nV
 eranstalter: MA 44 Wiener Bäder
DTSTAMP:20260425T212453Z
SUMMARY:Badegäste Freibad Sa/So
END:VEVENT
END:VCALENDAR
