BEGIN:VCALENDAR
VERSION:2.0
PRODID:-//pretix//pretix-PROD_Wien//
BEGIN:VEVENT
UID:pretix-baeder-joergerbad-80827@ticket.wien.gv.at
DTSTART;VALUE=DATE:20260424
DTEND;VALUE=DATE:20260425
DESCRIPTION:Tickets: https://ticket.wien.gv.at/baeder/joergerbad/80827/\nVe
 ranstalter: MA 44 Wiener Bäder
DTSTAMP:20260422T023641Z
SUMMARY:Badegäste Fr.
END:VEVENT
END:VCALENDAR
