BEGIN:VCALENDAR
VERSION:2.0
PRODID:-//pretix//pretix-PROD_Wien//
BEGIN:VEVENT
UID:pretix-baeder-joergerbad-80765@ticket.wien.gv.at
DTSTART;VALUE=DATE:20260422
DTEND;VALUE=DATE:20260423
DESCRIPTION:Tickets: https://ticket.wien.gv.at/baeder/joergerbad/80765/\nVe
 ranstalter: MA 44 Wiener Bäder
DTSTAMP:20260420T035414Z
SUMMARY:Badegäste Mi.
END:VEVENT
END:VCALENDAR
