BEGIN:VCALENDAR
VERSION:2.0
PRODID:-//pretix//pretix-PROD_Wien//
BEGIN:VEVENT
UID:pretix-baeder-joergerbad-79520@ticket.wien.gv.at
DTSTART;VALUE=DATE:20260310
DTEND;VALUE=DATE:20260311
DESCRIPTION:Tickets: https://ticket.wien.gv.at/baeder/joergerbad/79520/\nVe
 ranstalter: MA 44 Wiener Bäder
DTSTAMP:20260426T000032Z
SUMMARY:Badegäste Di./Do.
END:VEVENT
END:VCALENDAR
