BEGIN:VCALENDAR
VERSION:2.0
PRODID:-//pretix//pretix-PROD_Wien//
BEGIN:VEVENT
UID:pretix-baeder-joergerbad-77318@ticket.wien.gv.at
DTSTART;VALUE=DATE:20260122
DTEND;VALUE=DATE:20260123
DESCRIPTION:Tickets: https://ticket.wien.gv.at/baeder/joergerbad/77318/\nVe
 ranstalter: MA 44 Wiener Bäder
DTSTAMP:20260421T025415Z
SUMMARY:Badegäste Di./Do.
END:VEVENT
END:VCALENDAR
