BEGIN:VCALENDAR
VERSION:2.0
PRODID:-//pretix//pretix-PROD_Wien//
BEGIN:VEVENT
UID:pretix-baeder-joergerbad-6729@ticket.wien.gv.at
DTSTART;VALUE=DATE:20210905
DTEND;VALUE=DATE:20210906
DESCRIPTION:Tickets: https://ticket.wien.gv.at/baeder/joergerbad/6729/\nVer
 anstalter: MA 44 Wiener Bäder
DTSTAMP:20260425T161937Z
SUMMARY:Eintritt Jörgerbad
END:VEVENT
END:VCALENDAR
