BEGIN:VCALENDAR
VERSION:2.0
PRODID:-//pretix//pretix-PROD_Wien//
BEGIN:VEVENT
UID:pretix-baeder-joergerbad-6355@ticket.wien.gv.at
DTSTART;VALUE=DATE:20210819
DTEND;VALUE=DATE:20210820
DESCRIPTION:Tickets: https://ticket.wien.gv.at/baeder/joergerbad/6355/\nVer
 anstalter: MA 44 Wiener Bäder
DTSTAMP:20260420T005455Z
SUMMARY:Eintritt Jörgerbad
END:VEVENT
END:VCALENDAR
