BEGIN:VCALENDAR
VERSION:2.0
PRODID:-//pretix//pretix-PROD_Wien//
BEGIN:VEVENT
UID:pretix-baeder-joergerbad-5232@ticket.wien.gv.at
DTSTART;VALUE=DATE:20210629
DTEND;VALUE=DATE:20210630
DESCRIPTION:Tickets: https://ticket.wien.gv.at/baeder/joergerbad/5232/\nVer
 anstalter: MA 44 Wiener Bäder
DTSTAMP:20260426T000032Z
SUMMARY:Eintritt Jörgerbad
END:VEVENT
END:VCALENDAR
