BEGIN:VCALENDAR
VERSION:2.0
PRODID:-//pretix//pretix-PROD_Wien//
BEGIN:VEVENT
UID:pretix-baeder-joergerbad-4705@ticket.wien.gv.at
DTSTART;VALUE=DATE:20210605
DTEND;VALUE=DATE:20210606
DESCRIPTION:Tickets: https://ticket.wien.gv.at/baeder/joergerbad/4705/\nVer
 anstalter: MA 44 Wiener Bäder
DTSTAMP:20260423T004527Z
SUMMARY:Eintritt Jörgerbad
END:VEVENT
END:VCALENDAR
