BEGIN:VCALENDAR
VERSION:2.0
PRODID:-//pretix//pretix-PROD_Wien//
BEGIN:VEVENT
UID:pretix-baeder-joergerbad-19043@ticket.wien.gv.at
DTSTART;VALUE=DATE:20211105
DTEND;VALUE=DATE:20211106
DESCRIPTION:Tickets: https://ticket.wien.gv.at/baeder/joergerbad/19043/\nVe
 ranstalter: MA 44 Wiener Bäder
DTSTAMP:20260424T165853Z
SUMMARY:Badegäste Fr.
END:VEVENT
END:VCALENDAR
