BEGIN:VCALENDAR
VERSION:2.0
PRODID:-//pretix//pretix-PROD_Wien//
BEGIN:VEVENT
UID:pretix-baeder-joergerbad-18794@ticket.wien.gv.at
DTSTART;VALUE=DATE:20211017
DTEND;VALUE=DATE:20211018
DESCRIPTION:Tickets: https://ticket.wien.gv.at/baeder/joergerbad/18794/\nVe
 ranstalter: MA 44 Wiener Bäder
DTSTAMP:20260425T174753Z
SUMMARY:Badegäste So.
END:VEVENT
END:VCALENDAR
