BEGIN:VCALENDAR
VERSION:2.0
PRODID:-//pretix//pretix-PROD_Wien//
BEGIN:VEVENT
UID:pretix-baeder-joergerbad-12962@ticket.wien.gv.at
DTSTART;VALUE=DATE:20211001
DTEND;VALUE=DATE:20211002
DESCRIPTION:Tickets: https://ticket.wien.gv.at/baeder/joergerbad/12962/\nVe
 ranstalter: MA 44 Wiener Bäder
DTSTAMP:20260424T165854Z
SUMMARY:Eintritt Jörgerbad
END:VEVENT
END:VCALENDAR
