BEGIN:VCALENDAR
VERSION:2.0
PRODID:-//pretix//pretix-PROD_Wien//
BEGIN:VEVENT
UID:pretix-baeder-huetteldorf-80890@ticket.wien.gv.at
DTSTART;VALUE=DATE:20260428
DTEND;VALUE=DATE:20260429
DESCRIPTION:Tickets: https://ticket.wien.gv.at/baeder/huetteldorf/80890/\nV
 eranstalter: MA 44 Wiener Bäder
DTSTAMP:20260426T013428Z
SUMMARY:Badegäste Frühschwimmen
END:VEVENT
END:VCALENDAR
