BEGIN:VCALENDAR
VERSION:2.0
PRODID:-//pretix//pretix-PROD_Wien//
BEGIN:VEVENT
UID:pretix-baeder-huetteldorf-80879@ticket.wien.gv.at
DTSTART;VALUE=DATE:20260427
DTEND;VALUE=DATE:20260428
DESCRIPTION:Tickets: https://ticket.wien.gv.at/baeder/huetteldorf/80879/\nV
 eranstalter: MA 44 Wiener Bäder
DTSTAMP:20260425T235423Z
SUMMARY:Badegäste Mo./Di./Do./Fr.
END:VEVENT
END:VCALENDAR
