BEGIN:VCALENDAR
VERSION:2.0
PRODID:-//pretix//pretix-PROD_Wien//
BEGIN:VEVENT
UID:pretix-baeder-huetteldorf-80781@ticket.wien.gv.at
DTSTART;VALUE=DATE:20260423
DTEND;VALUE=DATE:20260424
DESCRIPTION:Tickets: https://ticket.wien.gv.at/baeder/huetteldorf/80781/\nV
 eranstalter: MA 44 Wiener Bäder
DTSTAMP:20260421T123552Z
SUMMARY:Badegäste Mo./Di./Do./Fr.
END:VEVENT
END:VCALENDAR
