BEGIN:VCALENDAR
VERSION:2.0
PRODID:-//pretix//pretix-PROD_Wien//
BEGIN:VEVENT
UID:pretix-baeder-huetteldorf-80745@ticket.wien.gv.at
DTSTART;VALUE=DATE:20260421
DTEND;VALUE=DATE:20260422
DESCRIPTION:Tickets: https://ticket.wien.gv.at/baeder/huetteldorf/80745/\nV
 eranstalter: MA 44 Wiener Bäder
DTSTAMP:20260421T140155Z
SUMMARY:Badegäste Frühschwimmen
END:VEVENT
END:VCALENDAR
