BEGIN:VCALENDAR
VERSION:2.0
PRODID:-//pretix//pretix-PROD_Wien//
BEGIN:VEVENT
UID:pretix-baeder-huetteldorf-80734@ticket.wien.gv.at
DTSTART;VALUE=DATE:20260420
DTEND;VALUE=DATE:20260421
DESCRIPTION:Tickets: https://ticket.wien.gv.at/baeder/huetteldorf/80734/\nV
 eranstalter: MA 44 Wiener Bäder
DTSTAMP:20260421T123513Z
SUMMARY:Badegäste Frühschwimmen
END:VEVENT
END:VCALENDAR
