BEGIN:VCALENDAR
VERSION:2.0
PRODID:-//pretix//pretix-PROD_Wien//
BEGIN:VEVENT
UID:pretix-baeder-huetteldorf-77104@ticket.wien.gv.at
DTSTART;VALUE=DATE:20260116
DTEND;VALUE=DATE:20260117
DESCRIPTION:Tickets: https://ticket.wien.gv.at/baeder/huetteldorf/77104/\nV
 eranstalter: MA 44 Wiener Bäder
DTSTAMP:20260426T015319Z
SUMMARY:Badegäste Mo./Di./Do./Fr.
END:VEVENT
END:VCALENDAR
