BEGIN:VCALENDAR
VERSION:2.0
PRODID:-//pretix//pretix-PROD_Wien//
BEGIN:VEVENT
UID:pretix-baeder-huetteldorf-6795@ticket.wien.gv.at
DTSTART;VALUE=DATE:20210908
DTEND;VALUE=DATE:20210909
DESCRIPTION:Tickets: https://ticket.wien.gv.at/baeder/huetteldorf/6795/\nVe
 ranstalter: MA 44 Wiener Bäder
DTSTAMP:20260426T035856Z
SUMMARY:Eintritt Hütteldorfer Bad
END:VEVENT
END:VCALENDAR
