BEGIN:VCALENDAR
VERSION:2.0
PRODID:-//pretix//pretix-PROD_Wien//
BEGIN:VEVENT
UID:pretix-baeder-huetteldorf-4526@ticket.wien.gv.at
DTSTART;VALUE=DATE:20210528
DTEND;VALUE=DATE:20210529
DESCRIPTION:Tickets: https://ticket.wien.gv.at/baeder/huetteldorf/4526/\nVe
 ranstalter: MA 44 Wiener Bäder
DTSTAMP:20260426T035855Z
SUMMARY:Eintritt Hütteldorfer Bad
END:VEVENT
END:VCALENDAR
