BEGIN:VCALENDAR
VERSION:2.0
PRODID:-//pretix//pretix-PROD_Wien//
BEGIN:VEVENT
UID:pretix-baeder-huetteldorf-20723@ticket.wien.gv.at
DTSTART;VALUE=DATE:20220314
DTEND;VALUE=DATE:20220315
DESCRIPTION:Tickets: https://ticket.wien.gv.at/baeder/huetteldorf/20723/\nV
 eranstalter: MA 44 Wiener Bäder
DTSTAMP:20260421T174544Z
SUMMARY:Badegäste Mo./Di./Do./Fr.
END:VEVENT
END:VCALENDAR
