BEGIN:VCALENDAR
VERSION:2.0
PRODID:-//pretix//pretix-PROD_Wien//
BEGIN:VEVENT
UID:pretix-baeder-huetteldorf-20359@ticket.wien.gv.at
DTSTART;VALUE=DATE:20220218
DTEND;VALUE=DATE:20220219
DESCRIPTION:Tickets: https://ticket.wien.gv.at/baeder/huetteldorf/20359/\nV
 eranstalter: MA 44 Wiener Bäder
DTSTAMP:20260421T215053Z
SUMMARY:Badegäste Mo./Di./Do./Fr.
END:VEVENT
END:VCALENDAR
