BEGIN:VCALENDAR
VERSION:2.0
PRODID:-//pretix//pretix-PROD_Wien//
BEGIN:VEVENT
UID:pretix-baeder-huetteldorf-20153@ticket.wien.gv.at
DTSTART;VALUE=DATE:20220203
DTEND;VALUE=DATE:20220204
DESCRIPTION:Tickets: https://ticket.wien.gv.at/baeder/huetteldorf/20153/\nV
 eranstalter: MA 44 Wiener Bäder
DTSTAMP:20260421T223619Z
SUMMARY:Badegäste Mo./Di./Do./Fr.
END:VEVENT
END:VCALENDAR
