BEGIN:VCALENDAR
VERSION:2.0
PRODID:-//pretix//pretix-PROD_Wien//
BEGIN:VEVENT
UID:pretix-baeder-hoepflerbad-6332@ticket.wien.gv.at
DTSTART;VALUE=DATE:20210818
DTEND;VALUE=DATE:20210819
DESCRIPTION:Tickets: https://ticket.wien.gv.at/baeder/hoepflerbad/6332/\nVe
 ranstalter: MA 44 Wiener Bäder
DTSTAMP:20260425T190901Z
SUMMARY:Eintritt Höpflerbad
END:VEVENT
END:VCALENDAR
