BEGIN:VCALENDAR
VERSION:2.0
PRODID:-//pretix//pretix-PROD_Wien//
BEGIN:VEVENT
UID:pretix-baeder-hoepflerbad-6178@ticket.wien.gv.at
DTSTART;VALUE=DATE:20210811
DTEND;VALUE=DATE:20210812
DESCRIPTION:Tickets: https://ticket.wien.gv.at/baeder/hoepflerbad/6178/\nVe
 ranstalter: MA 44 Wiener Bäder
DTSTAMP:20260419T185441Z
SUMMARY:Eintritt Höpflerbad
END:VEVENT
END:VCALENDAR
