BEGIN:VCALENDAR
VERSION:2.0
PRODID:-//pretix//pretix-PROD_Wien//
BEGIN:VEVENT
UID:pretix-baeder-hoepflerbad-5584@ticket.wien.gv.at
DTSTART;VALUE=DATE:20210715
DTEND;VALUE=DATE:20210716
DESCRIPTION:Tickets: https://ticket.wien.gv.at/baeder/hoepflerbad/5584/\nVe
 ranstalter: MA 44 Wiener Bäder
DTSTAMP:20260425T174752Z
SUMMARY:Eintritt Höpflerbad
END:VEVENT
END:VCALENDAR
