BEGIN:VCALENDAR
VERSION:2.0
PRODID:-//pretix//pretix-PROD_Wien//
BEGIN:VEVENT
UID:pretix-baeder-hoepflerbad-54392@ticket.wien.gv.at
DTSTART;VALUE=DATE:20240901
DTEND;VALUE=DATE:20240902
DESCRIPTION:Tickets: https://ticket.wien.gv.at/baeder/hoepflerbad/54392/\nV
 eranstalter: MA 44 Wiener Bäder
DTSTAMP:20260420T025530Z
SUMMARY:Badegäste Freibad Mo-So
END:VEVENT
END:VCALENDAR
