BEGIN:VCALENDAR
VERSION:2.0
PRODID:-//pretix//pretix-PROD_Wien//
BEGIN:VEVENT
UID:pretix-baeder-hoepflerbad-53861@ticket.wien.gv.at
DTSTART;VALUE=DATE:20240824
DTEND;VALUE=DATE:20240825
DESCRIPTION:Tickets: https://ticket.wien.gv.at/baeder/hoepflerbad/53861/\nV
 eranstalter: MA 44 Wiener Bäder
DTSTAMP:20260420T045340Z
SUMMARY:Badegäste Freibad Mo-So
END:VEVENT
END:VCALENDAR
