BEGIN:VCALENDAR
VERSION:2.0
PRODID:-//pretix//pretix-PROD_Wien//
BEGIN:VEVENT
UID:pretix-baeder-hoepflerbad-53716@ticket.wien.gv.at
DTSTART;VALUE=DATE:20240820
DTEND;VALUE=DATE:20240821
DESCRIPTION:Tickets: https://ticket.wien.gv.at/baeder/hoepflerbad/53716/\nV
 eranstalter: MA 44 Wiener Bäder
DTSTAMP:20260420T045342Z
SUMMARY:Badegäste Freibad Mo-So
END:VEVENT
END:VCALENDAR
