BEGIN:VCALENDAR
VERSION:2.0
PRODID:-//pretix//pretix-PROD_Wien//
BEGIN:VEVENT
UID:pretix-baeder-hoepflerbad-53675@ticket.wien.gv.at
DTSTART;VALUE=DATE:20240818
DTEND;VALUE=DATE:20240819
DESCRIPTION:Tickets: https://ticket.wien.gv.at/baeder/hoepflerbad/53675/\nV
 eranstalter: MA 44 Wiener Bäder
DTSTAMP:20260420T103126Z
SUMMARY:Badegäste Freibad Mo-So
END:VEVENT
END:VCALENDAR
