BEGIN:VCALENDAR
VERSION:2.0
PRODID:-//pretix//pretix-PROD_Wien//
BEGIN:VEVENT
UID:pretix-baeder-hoepflerbad-52329@ticket.wien.gv.at
DTSTART;VALUE=DATE:20240725
DTEND;VALUE=DATE:20240726
DESCRIPTION:Tickets: https://ticket.wien.gv.at/baeder/hoepflerbad/52329/\nV
 eranstalter: MA 44 Wiener Bäder
DTSTAMP:20260420T223441Z
SUMMARY:Badegäste Freibad Mo-So
END:VEVENT
END:VCALENDAR
