BEGIN:VCALENDAR
VERSION:2.0
PRODID:-//pretix//pretix-PROD_Wien//
BEGIN:VEVENT
UID:pretix-baeder-hoepflerbad-52264@ticket.wien.gv.at
DTSTART;VALUE=DATE:20240722
DTEND;VALUE=DATE:20240723
DESCRIPTION:Tickets: https://ticket.wien.gv.at/baeder/hoepflerbad/52264/\nV
 eranstalter: MA 44 Wiener Bäder
DTSTAMP:20260421T015143Z
SUMMARY:Badegäste Freibad Mo-So
END:VEVENT
END:VCALENDAR
