BEGIN:VCALENDAR
VERSION:2.0
PRODID:-//pretix//pretix-PROD_Wien//
BEGIN:VEVENT
UID:pretix-baeder-hoepflerbad-50925@ticket.wien.gv.at
DTSTART;VALUE=DATE:20240615
DTEND;VALUE=DATE:20240616
DESCRIPTION:Tickets: https://ticket.wien.gv.at/baeder/hoepflerbad/50925/\nV
 eranstalter: MA 44 Wiener Bäder
DTSTAMP:20260422T010238Z
SUMMARY:Badegäste Freibad Mo-So
END:VEVENT
END:VCALENDAR
