BEGIN:VCALENDAR
VERSION:2.0
PRODID:-//pretix//pretix-PROD_Wien//
BEGIN:VEVENT
UID:pretix-baeder-hoepflerbad-5055@ticket.wien.gv.at
DTSTART;VALUE=DATE:20210621
DTEND;VALUE=DATE:20210622
DESCRIPTION:Tickets: https://ticket.wien.gv.at/baeder/hoepflerbad/5055/\nVe
 ranstalter: MA 44 Wiener Bäder
DTSTAMP:20260426T011410Z
SUMMARY:Eintritt Höpflerbad
END:VEVENT
END:VCALENDAR
