BEGIN:VCALENDAR
VERSION:2.0
PRODID:-//pretix//pretix-PROD_Wien//
BEGIN:VEVENT
UID:pretix-baeder-hoepflerbad-4877@ticket.wien.gv.at
DTSTART;VALUE=DATE:20210613
DTEND;VALUE=DATE:20210614
DESCRIPTION:Tickets: https://ticket.wien.gv.at/baeder/hoepflerbad/4877/\nVe
 ranstalter: MA 44 Wiener Bäder
DTSTAMP:20260425T190906Z
SUMMARY:Eintritt Höpflerbad
END:VEVENT
END:VCALENDAR
