BEGIN:VCALENDAR
VERSION:2.0
PRODID:-//pretix//pretix-PROD_Wien//
BEGIN:VEVENT
UID:pretix-baeder-hoepflerbad-48607@ticket.wien.gv.at
DTSTART;VALUE=DATE:20240524
DTEND;VALUE=DATE:20240525
DESCRIPTION:Tickets: https://ticket.wien.gv.at/baeder/hoepflerbad/48607/\nV
 eranstalter: MA 44 Wiener Bäder
DTSTAMP:20260423T050506Z
SUMMARY:Badegäste Freibad Mo-So
END:VEVENT
END:VCALENDAR
