BEGIN:VCALENDAR
VERSION:2.0
PRODID:-//pretix//pretix-PROD_Wien//
BEGIN:VEVENT
UID:pretix-baeder-hoepflerbad-4527@ticket.wien.gv.at
DTSTART;VALUE=DATE:20210528
DTEND;VALUE=DATE:20210529
DESCRIPTION:Tickets: https://ticket.wien.gv.at/baeder/hoepflerbad/4527/\nVe
 ranstalter: MA 44 Wiener Bäder
DTSTAMP:20260425T173528Z
SUMMARY:Eintritt Höpflerbad
END:VEVENT
END:VCALENDAR
