BEGIN:VCALENDAR
VERSION:2.0
PRODID:-//pretix//pretix-PROD_Wien//
BEGIN:VEVENT
UID:pretix-baeder-hietzing-79551@ticket.wien.gv.at
DTSTART;VALUE=DATE:20260312
DTEND;VALUE=DATE:20260313
DESCRIPTION:Tickets: https://ticket.wien.gv.at/baeder/hietzing/79551/\nVera
 nstalter: MA 44 Wiener Bäder
DTSTAMP:20260424T165856Z
SUMMARY:Badegäste Frühschwimmen
END:VEVENT
END:VCALENDAR
