BEGIN:VCALENDAR
VERSION:2.0
PRODID:-//pretix//pretix-PROD_Wien//
BEGIN:VEVENT
UID:pretix-baeder-hietzing-79359@ticket.wien.gv.at
DTSTART;VALUE=DATE:20260305
DTEND;VALUE=DATE:20260306
DESCRIPTION:Tickets: https://ticket.wien.gv.at/baeder/hietzing/79359/\nVera
 nstalter: MA 44 Wiener Bäder
DTSTAMP:20260421T114856Z
SUMMARY:Badegäste Frühschwimmen
END:VEVENT
END:VCALENDAR
