BEGIN:VCALENDAR
VERSION:2.0
PRODID:-//pretix//pretix-PROD_Wien//
BEGIN:VEVENT
UID:pretix-baeder-hietzing-75108@ticket.wien.gv.at
DTSTART;VALUE=DATE:20251206
DTEND;VALUE=DATE:20251207
DESCRIPTION:Tickets: https://ticket.wien.gv.at/baeder/hietzing/75108/\nVera
 nstalter: MA 44 Wiener Bäder
DTSTAMP:20260423T004530Z
SUMMARY:Badegäste Sa.
END:VEVENT
END:VCALENDAR
