BEGIN:VCALENDAR
VERSION:2.0
PRODID:-//pretix//pretix-PROD_Wien//
BEGIN:VEVENT
UID:pretix-baeder-hietzing-72773@ticket.wien.gv.at
DTSTART;VALUE=DATE:20251018
DTEND;VALUE=DATE:20251019
DESCRIPTION:Tickets: https://ticket.wien.gv.at/baeder/hietzing/72773/\nVera
 nstalter: MA 44 Wiener Bäder
DTSTAMP:20260424T064514Z
SUMMARY:Badegäste Sa.
END:VEVENT
END:VCALENDAR
