BEGIN:VCALENDAR
VERSION:2.0
PRODID:-//pretix//pretix-PROD_Wien//
BEGIN:VEVENT
UID:pretix-baeder-hietzing-6529@ticket.wien.gv.at
DTSTART;VALUE=DATE:20210827
DTEND;VALUE=DATE:20210828
DESCRIPTION:Tickets: https://ticket.wien.gv.at/baeder/hietzing/6529/\nVeran
 stalter: MA 44 Wiener Bäder
DTSTAMP:20260425T143219Z
SUMMARY:Eintritt Hietzinger Bad
END:VEVENT
END:VCALENDAR
