BEGIN:VCALENDAR
VERSION:2.0
PRODID:-//pretix//pretix-PROD_Wien//
BEGIN:VEVENT
UID:pretix-baeder-hietzing-6311@ticket.wien.gv.at
DTSTART;VALUE=DATE:20210817
DTEND;VALUE=DATE:20210818
DESCRIPTION:Tickets: https://ticket.wien.gv.at/baeder/hietzing/6311/\nVeran
 stalter: MA 44 Wiener Bäder
DTSTAMP:20260425T215828Z
SUMMARY:Eintritt Hietzinger Bad
END:VEVENT
END:VCALENDAR
